BEGIN:VCALENDAR
VERSION:2.0
PRODID:-//Squarespace Inc/Squarespace 6//v6//EN
BEGIN:VEVENT
UID:5f16784e6f777029c4efb598@squarespace.com
DTSTAMP:20200826T014456Z
DTSTART:20200811T050000Z
DTEND:20200811T063000Z
SUMMARY:2020 Roadshow webinar
END:VEVENT
END:VCALENDAR
