BEGIN:VCALENDAR
VERSION:2.0
PRODID:-//Squarespace Inc/Squarespace 6//v6//EN
BEGIN:VEVENT
UID:5c80b0affa0d604eed6564d8@squarespace.com
DTSTAMP:20190307T071921Z
DTSTART:20190416T060000Z
DTEND:20190417T080000Z
SUMMARY:           Registrations are now open for the PRISM UWA &amp\; Curt
 in Roadshows!
END:VEVENT
END:VCALENDAR
