BEGIN:VCALENDAR
VERSION:2.0
PRODID:-//Squarespace Inc/Squarespace 6//v6//EN
BEGIN:VEVENT
UID:5b2222056d2a73e9152a196f@squarespace.com
DTSTAMP:20190307T074731Z
DTSTART:20180807T060000Z
DTEND:20180807T093000Z
SUMMARY:Event ended
END:VEVENT
END:VCALENDAR
