BEGIN:VCALENDAR
VERSION:2.0
PRODID:-//Squarespace Inc/Squarespace 6//v6//EN
BEGIN:VEVENT
UID:5b22094d575d1f9090d9ffe1@squarespace.com
DTSTAMP:20190307T074743Z
DTSTART:20180802T060000Z
DTEND:20180802T083000Z
SUMMARY:Event ended
GEO:-31.974849;115.816938
LOCATION:St Catherine's College\, St Catherine's College 2 Park Road\, Craw
 ley\, WA\, 6009\, Australia
END:VEVENT
END:VCALENDAR
