BEGIN:VCALENDAR
VERSION:2.0
PRODID:-//Squarespace Inc/Squarespace 6//v6//EN
BEGIN:VEVENT
UID:5aa1f9bce2c4833a7dd6fda8@squarespace.com
DTSTAMP:20190307T070426Z
DTSTART:20180531T050000Z
DTEND:20180531T070000Z
SUMMARY:2018 UWA Roadshow
GEO:-31.978665;115.819794
LOCATION:The University Club of Western Australia
END:VEVENT
END:VCALENDAR
