BEGIN:VCALENDAR
VERSION:2.0
PRODID:-//Squarespace Inc/Squarespace 6//v6//EN
BEGIN:VEVENT
UID:5c80c02a9140b7124b935f52@squarespace.com
DTSTAMP:20190307T072802Z
DTSTART:20190416T060000Z
DTEND:20190416T080000Z
SUMMARY:2019 UWA Roadshow
GEO:-31.978665;115.819794
LOCATION:The University Club of Western Australia
END:VEVENT
END:VCALENDAR
