BEGIN:VCALENDAR
VERSION:2.0
PRODID:-//Squarespace Inc/Squarespace 6//v6//EN
BEGIN:VEVENT
UID:5c80c0ff4785d342b6def4dc@squarespace.com
DTSTAMP:20190307T072820Z
DTSTART:20190417T080000Z
DTEND:20190417T100000Z
SUMMARY:2019 Curtin Roadshow
GEO:-31.978665;115.819794
LOCATION:The University Club of Western Australia
END:VEVENT
END:VCALENDAR
