BEGIN:VCALENDAR
VERSION:2.0
PRODID:-//Squarespace Inc/Squarespace 6//v6//EN
BEGIN:VEVENT
UID:5aa1fa9ac830253c38dda89e@squarespace.com
DTSTAMP:20190307T070414Z
DTSTART:20180530T080000Z
DTEND:20180530T100000Z
SUMMARY:2018 Curtin Roadshow
GEO:-32.006195;115.894418
LOCATION:Curtin University – Building 500\, Room 1102
END:VEVENT
END:VCALENDAR
