BEGIN:VCALENDAR
VERSION:2.0
PRODID:-//Squarespace Inc/Squarespace 6//v6//EN
BEGIN:VEVENT
UID:59796f2b197aeafed272e280@squarespace.com
DTSTAMP:20170727T044410Z
DTSTART:20170808T053000Z
DTEND:20170808T073000Z
SUMMARY:PRISM Alliance Workshop
GEO:-31.974591;115.816361
LOCATION:St Catherine's College UWA
END:VEVENT
END:VCALENDAR
