BEGIN:VCALENDAR
VERSION:2.0
PRODID:-//Squarespace Inc/Squarespace 6//v6//EN
BEGIN:VEVENT
UID:58b790609de4bbf5be7e7b62@squarespace.com
DTSTAMP:20170430T012948Z
DTSTART:20170524T080000Z
DTEND:20170524T100000Z
SUMMARY:2017 Curtin Roadshow
GEO:-32.006195;115.894418
LOCATION:Curtin University – Building 500\, Room 1102
END:VEVENT
END:VCALENDAR
