BEGIN:VCALENDAR
VERSION:2.0
PRODID:-//Squarespace Inc/Squarespace 6//v6//EN
BEGIN:VEVENT
UID:58b78f0f17bffc11f23e20c6@squarespace.com
DTSTAMP:20170405T034550Z
DTSTART:20170523T050000Z
DTEND:20170523T070000Z
SUMMARY:2017 UWA Roadshow
GEO:-31.978665;115.819794
LOCATION:The University Club of Western Australia
END:VEVENT
END:VCALENDAR
