BEGIN:VCALENDAR
VERSION:2.0
PRODID:-//Squarespace Inc/Squarespace 6//v6//EN
BEGIN:VEVENT
UID:58b78eb33e00be2a9a446718@squarespace.com
DTSTAMP:20170323T060755Z
DTSTART:20170329T093000Z
DTEND:20170329T113000Z
SUMMARY:2017 Cocktail Night
GEO:-31.954764;115.864608
LOCATION:Squire Patton Boggs\, Level 21\, Murray Street\, Perth\, Australia
END:VEVENT
END:VCALENDAR
