BEGIN:VCALENDAR
VERSION:2.0
PRODID:-//Squarespace Inc/Squarespace 6//v6//EN
BEGIN:VEVENT
UID:57416faa4c2f8522317d67b2@squarespace.com
DTSTAMP:20170303T022003Z
DTSTART:20160608T080000Z
DTEND:20160608T100000Z
SUMMARY:Scholarship Symposium
GEO:-31.97475;115.815422
LOCATION:Jull Common Room\, 2 Park Road\, Crawley\, WA\, 6009\, Australia
END:VEVENT
END:VCALENDAR
